BEGIN:VCALENDAR
VERSION:2.0
PRODID:-//Vins Chappuis - ECPv6.3.3.1//NONSGML v1.0//EN
CALSCALE:GREGORIAN
METHOD:PUBLISH
X-WR-CALNAME:Vins Chappuis
X-ORIGINAL-URL:https://vins-chappuis.ch
X-WR-CALDESC:Events for Vins Chappuis
REFRESH-INTERVAL;VALUE=DURATION:PT1H
X-Robots-Tag:noindex
X-PUBLISHED-TTL:PT1H
BEGIN:VTIMEZONE
TZID:Europe/Paris
BEGIN:DAYLIGHT
TZOFFSETFROM:+0100
TZOFFSETTO:+0200
TZNAME:CEST
DTSTART:20230326T010000
END:DAYLIGHT
BEGIN:STANDARD
TZOFFSETFROM:+0200
TZOFFSETTO:+0100
TZNAME:CET
DTSTART:20231029T010000
END:STANDARD
BEGIN:DAYLIGHT
TZOFFSETFROM:+0100
TZOFFSETTO:+0200
TZNAME:CEST
DTSTART:20240331T010000
END:DAYLIGHT
BEGIN:STANDARD
TZOFFSETFROM:+0200
TZOFFSETTO:+0100
TZNAME:CET
DTSTART:20241027T010000
END:STANDARD
BEGIN:DAYLIGHT
TZOFFSETFROM:+0100
TZOFFSETTO:+0200
TZNAME:CEST
DTSTART:20250330T010000
END:DAYLIGHT
BEGIN:STANDARD
TZOFFSETFROM:+0200
TZOFFSETTO:+0100
TZNAME:CET
DTSTART:20251026T010000
END:STANDARD
BEGIN:DAYLIGHT
TZOFFSETFROM:+0100
TZOFFSETTO:+0200
TZNAME:CEST
DTSTART:20260329T010000
END:DAYLIGHT
BEGIN:STANDARD
TZOFFSETFROM:+0200
TZOFFSETTO:+0100
TZNAME:CET
DTSTART:20261025T010000
END:STANDARD
TZID:UTC
BEGIN:STANDARD
TZOFFSETFROM:+0000
TZOFFSETTO:+0000
TZNAME:UTC
DTSTART:20230101T000000
END:STANDARD
TZID:Europe/Zurich
BEGIN:DAYLIGHT
TZOFFSETFROM:+0100
TZOFFSETTO:+0200
TZNAME:CEST
DTSTART:20220327T010000
END:DAYLIGHT
BEGIN:STANDARD
TZOFFSETFROM:+0200
TZOFFSETTO:+0100
TZNAME:CET
DTSTART:20221030T010000
END:STANDARD
END:VTIMEZONE
BEGIN:VEVENT
DTSTART;VALUE=DATE:20260410
DTEND;VALUE=DATE:20260412
DTSTAMP:20260423T122929
CREATED:20260116T153146Z
LAST-MODIFIED:20260116T153146Z
UID:4763-1775779200-1775951999@vins-chappuis.ch
SUMMARY:Helvetia Fribourg
DESCRIPTION:
URL:https://vins-chappuis.ch/event/helvetia-fribourg/
END:VEVENT
BEGIN:VEVENT
DTSTART;VALUE=DATE:20260312
DTEND;VALUE=DATE:20260316
DTSTAMP:20260423T122929
CREATED:20260116T144133Z
LAST-MODIFIED:20260116T144520Z
UID:4739-1773273600-1773619199@vins-chappuis.ch
SUMMARY:Vinorama Delémont
DESCRIPTION:Présentation de Vinorama \nÀ VINORAMA\, vous êtes envahis par une ambiance très conviviale. Vous faites des rencontres inoubliables entre amateurs et professionnels du vin ; vous dégustez des vins et des produits du terroir d’une qualité quasi parfaite et surtout vous ne sentez pas cette agressivité de vente\, car vous avez avant tout à faire à des professionnels du vin et des produits du terroir\, à des personnes respectueuses et aimant la terre et travaillant avant tout la qualité de leur produit. VINORAMA représente et représentera toujours cette image de qualité\, de respect et de convivialité. \nVous pourrez naturellement acheter sur place à l’emporter tous ces délicieux produits du terroir. \nUn petit creux : Chez Fafa et son équipe de la Crevasse à Champéry vous combleront votre appétit dans une ambiance conviviale avec des mets de qualités. \nLes organisateurs vous souhaitent un très beau salon et vous disent à bientôt. \nVinorama-jura \nDu jeudi au dimanche 15 Mars 2026\nJeudi 17h00 – 22h00 \n Vendredi 17h00 – 22h00 \nSamedi 17h00 – 22h00 \nDimanche 11h00 – 17h00 \nPrix de l’entrée\nAvec Carte invité : entrée libre
URL:https://vins-chappuis.ch/event/vinorama-delemont-5/
LOCATION:Vinorama Delémont\, Rue Emile-Boéchat 60\, Delémont\, JU\, 2800\, Suisse
ORGANIZER;CN="Vinorama Jacques-Andr%C3%A9 Roth":MAILTO:info@foire-jura.ch
END:VEVENT
BEGIN:VEVENT
DTSTART;VALUE=DATE:20251022
DTEND;VALUE=DATE:20251027
DTSTAMP:20260423T122929
CREATED:20250120T153021Z
LAST-MODIFIED:20250120T153416Z
UID:4563-1761091200-1761523199@vins-chappuis.ch
SUMMARY:Biel-Bienne (Vinifera)
DESCRIPTION:
URL:https://vins-chappuis.ch/event/biel-bienne/
END:VEVENT
BEGIN:VEVENT
DTSTART;TZID=Europe/Paris:20250913T100000
DTEND;TZID=Europe/Paris:20250913T150000
DTSTAMP:20260423T122929
CREATED:20250120T155221Z
LAST-MODIFIED:20250814T070712Z
UID:4601-1757757600-1757775600@vins-chappuis.ch
SUMMARY:Lavaux Panoramic
DESCRIPTION:Cette année nous vous proposons une promenade avec le « Lavaux Panoramic »\, petit train qui circule dans le vignoble. Vues magnifiques et émotions assurées ! Le départ est de notre cave à Rivaz à 10 heures précises\, puis après 1 heure de balade\, le train vous laissera au sommet du Dézaley d’où vous pourrez redescendre tranquillement à pied jusqu’à Rivaz (environ 30 minutes) pour prendre un apéritif bien mérité. Un repas typique à 3 plats vous sera servi ensuite dans nos jardins avec vue sur lac et Alpes. Le prix est de CHF 75\,– / personne\, tout compris\, boissons et vins aussi.\nVoici les dates retenues : 31 mai\, 14 juin\, 30 août et 7 septembre.\nInscriptions avec carte-réponse ou à info@vins-chappuis.ch.\nUne confirmation vous sera envoyée\, paiement cash sur place.
URL:https://vins-chappuis.ch/event/lavaux-panoramic-4/
LOCATION:Chappuis Vins\, En Bons-Voisins 22\, Rivaz\, 1071\, Suisse
ORGANIZER;CN="Vins Chappuis":MAILTO:info@vins-chappuis.ch
END:VEVENT
BEGIN:VEVENT
DTSTART;TZID=Europe/Paris:20250830T100000
DTEND;TZID=Europe/Paris:20250830T153000
DTSTAMP:20260423T122929
CREATED:20240109T170347Z
LAST-MODIFIED:20250120T154952Z
UID:4358-1756548000-1756567800@vins-chappuis.ch
SUMMARY:Lavaux Panoramic
DESCRIPTION:Cette année nous vous proposons une promenade avec le « Lavaux Panoramic »\, petit train qui circule dans le vignoble. Vues magnifiques et émotions assurées ! Le départ est de notre cave à Rivaz à 10 heures précises\, puis après 1 heure de balade\, le train vous laissera au sommet du Dézaley d’où vous pourrez redescendre tranquillement à pied jusqu’à Rivaz (environ 30 minutes) pour prendre un apéritif bien mérité. Un repas typique à 3 plats vous sera servi ensuite dans nos jardins avec vue sur lac et Alpes. Le prix est de CHF 75\,– / personne\, tout compris\, boissons et vins aussi.\nVoici les dates retenues : 31 mai\, 14 juin\, 30 août et 7 septembre.\nInscriptions avec carte-réponse ou à info@vins-chappuis.ch.\nUne confirmation vous sera envoyée\, paiement cash sur place.
URL:https://vins-chappuis.ch/event/lavaux-panoramic/
LOCATION:Chappuis Vins\, En Bons-Voisins 22\, Rivaz\, 1071\, Suisse
ORGANIZER;CN="Vins Chappuis":MAILTO:info@vins-chappuis.ch
END:VEVENT
BEGIN:VEVENT
DTSTART;TZID=Europe/Paris:20250614T100000
DTEND;TZID=Europe/Paris:20250614T150000
DTSTAMP:20260423T122929
CREATED:20240109T173145Z
LAST-MODIFIED:20250120T154828Z
UID:4368-1749895200-1749913200@vins-chappuis.ch
SUMMARY:Lavaux Panoramic
DESCRIPTION:Cette année nous vous proposons une promenade avec le « Lavaux Panoramic »\, petit train qui circule dans le vignoble. Vues magnifiques et émotions assurées ! Le départ est de notre cave à Rivaz à 10 heures précises\, puis après 1 heure de balade\, le train vous laissera au sommet du Dézaley d’où vous pourrez redescendre tranquillement à pied jusqu’à Rivaz (environ 30 minutes) pour prendre un apéritif bien mérité. Un repas typique à 3 plats vous sera servi ensuite dans nos jardins avec vue sur lac et Alpes. Le prix est de CHF 75\,– / personne\, tout compris\, boissons et vins aussi.\nVoici les dates retenues : 31 mai\, 14 juin\, 30 août et 7 septembre.\nInscriptions avec carte-réponse ou à info@vins-chappuis.ch.\nUne confirmation vous sera envoyée\, paiement cash sur place.
URL:https://vins-chappuis.ch/event/lavaux-panoramic-2/
LOCATION:Chappuis Vins\, En Bons-Voisins 22\, Rivaz\, 1071\, Suisse
ORGANIZER;CN="Vins Chappuis":MAILTO:info@vins-chappuis.ch
END:VEVENT
BEGIN:VEVENT
DTSTART;VALUE=DATE:20250607
DTEND;VALUE=DATE:20250609
DTSTAMP:20260423T122929
CREATED:20250121T154452Z
LAST-MODIFIED:20250124T071119Z
UID:4605-1749254400-1749427199@vins-chappuis.ch
SUMMARY:Portes ouvertes
DESCRIPTION:
URL:https://vins-chappuis.ch/event/portes-ouverts/
LOCATION:Chappuis Vins\, En Bons-Voisins 22\, Rivaz\, 1071\, Suisse
ORGANIZER;CN="Vins Chappuis":MAILTO:info@vins-chappuis.ch
END:VEVENT
BEGIN:VEVENT
DTSTART;TZID=Europe/Paris:20250531T100000
DTEND;TZID=Europe/Paris:20250531T153000
DTSTAMP:20260423T122929
CREATED:20240111T133849Z
LAST-MODIFIED:20250120T154552Z
UID:4416-1748685600-1748705400@vins-chappuis.ch
SUMMARY:Lavaux Panoramic
DESCRIPTION:Cette année nous vous proposons une promenade avec le « Lavaux Panoramic »\, petit train qui circule dans le vignoble. Vues magnifiques et émotions assurées ! Le départ est de notre cave à Rivaz à 10 heures précises\, puis après 1 heure de balade\, le train vous laissera au sommet du Dézaley d’où vous pourrez redescendre tranquillement à pied jusqu’à Rivaz (environ 30 minutes) pour prendre un apéritif bien mérité. Un repas typique à 3 plats vous sera servi ensuite dans nos jardins avec vue sur lac et Alpes. Le prix est de CHF 75\,– / personne\, tout compris\, boissons et vins aussi.\nVoici les dates retenues : 31 mai\, 14 juin\, 30 août et 7 septembre.\nInscriptions avec carte-réponse ou à info@vins-chappuis.ch.\nUne confirmation vous sera envoyée\, paiement cash sur place.
URL:https://vins-chappuis.ch/event/lavaux-panoramic-3/
LOCATION:Chappuis Vins\, En Bons-Voisins 22\, Rivaz\, 1071\, Suisse
ORGANIZER;CN="Vins Chappuis":MAILTO:info@vins-chappuis.ch
END:VEVENT
BEGIN:VEVENT
DTSTART;VALUE=DATE:20250320
DTEND;VALUE=DATE:20250324
DTSTAMP:20260423T122929
CREATED:20250120T152054Z
LAST-MODIFIED:20250120T152054Z
UID:4543-1742428800-1742774399@vins-chappuis.ch
SUMMARY:Vinorama Delémont
DESCRIPTION:24E SALON DES VINS DE DOMAINES ET DES PRODUITS DU TERROIR \nPrésentation de Vinorama \nÀ VINORAMA\, vous êtes envahis par une ambiance très conviviale. Vous faites des rencontres inoubliables entre amateurs et professionnels du vin ; vous dégustez des vins et des produits du terroir d’une qualité quasi parfaite et surtout vous ne sentez pas cette agressivité de vente\, car vous avez avant tout à faire à des professionnels du vin et des produits du terroir\, à des personnes respectueuses et aimant la terre et travaillant avant tout la qualité de leur produit. VINORAMA représente et représentera toujours cette image de qualité\, de respect et de convivialité. \nVous pourrez naturellement acheter sur place à l’emporter tous ces délicieux produits du terroir. \nUn petit creux : Chez Fafa et son équipe de la Crevasse à Champéry vous combleront votre appétit dans une ambiance conviviale avec des mets de qualités. \nLes organisateurs vous souhaitent un très beau salon et vous disent à bientôt. \nVinorama-jura \nDu jeudi au dimanche 23 Mars 2025\nJeudi 17h00 – 22h00 \n Vendredi 17h00 – 22h00 \nSamedi 17h00 – 22h00 \nDimanche 11h00 – 17h00 \nPrix de l’entrée\nSans Carte invité : CHF 15.- \nAvec Carte invité : entrée libre
URL:https://vins-chappuis.ch/event/vinorama-delemont-4/
LOCATION:Vinorama Delémont\, Rue Emile-Boéchat 60\, Delémont\, JU\, 2800\, Suisse
ORGANIZER;CN="Vinorama Jacques-Andr%C3%A9 Roth":MAILTO:info@foire-jura.ch
END:VEVENT
BEGIN:VEVENT
DTSTART;VALUE=DATE:20240229
DTEND;VALUE=DATE:20240304
DTSTAMP:20260423T122929
CREATED:20240111T134446Z
LAST-MODIFIED:20240111T134446Z
UID:4418-1709164800-1709510399@vins-chappuis.ch
SUMMARY:Vinorama Delémont
DESCRIPTION:24E SALON DES VINS DE DOMAINES ET DES PRODUITS DU TERROIR \nPrésentation de Vinorama \nÀ VINORAMA\, vous êtes envahis par une ambiance très conviviale. Vous faites des rencontres inoubliables entre amateurs et professionnels du vin ; vous dégustez des vins et des produits du terroir d’une qualité quasi parfaite et surtout vous ne sentez pas cette agressivité de vente\, car vous avez avant tout à faire à des professionnels du vin et des produits du terroir\, à des personnes respectueuses et aimant la terre et travaillant avant tout la qualité de leur produit. VINORAMA représente et représentera toujours cette image de qualité\, de respect et de convivialité. \nVous pourrez naturellement acheter sur place à l’emporter tous ces délicieux produits du terroir. \nUn petit creux : Chez Fafa et son équipe de la Crevasse à Champéry vous combleront votre appétit dans une ambiance conviviale avec des mets de qualités. \nLes organisateurs vous souhaitent un très beau salon et vous disent à bientôt. \nVinorama-jura
URL:https://vins-chappuis.ch/event/vinorama-delemont-3/
LOCATION:Vinorama Delémont\, Rue Emile-Boéchat 60\, Delémont\, JU\, 2800\, Suisse
ORGANIZER;CN="Vinorama Jacques-Andr%C3%A9 Roth":MAILTO:info@foire-jura.ch
END:VEVENT
BEGIN:VEVENT
DTSTART;TZID=Europe/Paris:20231115T140000
DTEND;TZID=Europe/Paris:20231119T180000
DTSTAMP:20260423T122929
CREATED:20230117T144857Z
LAST-MODIFIED:20230117T144857Z
UID:4054-1700056800-1700416800@vins-chappuis.ch
SUMMARY:Wintimäss Winterthur
DESCRIPTION:
URL:https://vins-chappuis.ch/event/wintimass-winterthur-2/
LOCATION:Eulachhallen Winterthur\, Wartstrasse 73\, Winterthour\, 8400\, Suisse
CATEGORIES:Foire
ORGANIZER;CN="Wintim%C3%A4ss Winterthur":MAILTO:info@wintimaess.ch
END:VEVENT
BEGIN:VEVENT
DTSTART;TZID=Europe/Paris:20231109T150000
DTEND;TZID=Europe/Paris:20231112T200000
DTSTAMP:20260423T122929
CREATED:20230117T144046Z
LAST-MODIFIED:20230117T144423Z
UID:4050-1699542000-1699819200@vins-chappuis.ch
SUMMARY:Wyschiff Zug
DESCRIPTION:
URL:https://vins-chappuis.ch/event/wyschiff-zug/
LOCATION:Wyschiff Zug\, Alpenquai\, Zug\, ZG\, 6300\, Suisse
CATEGORIES:Foire
ORGANIZER;CN="Event Wyschiff":MAILTO:info@wyschiff.ch
END:VEVENT
BEGIN:VEVENT
DTSTART;TZID=Europe/Paris:20231102T150000
DTEND;TZID=Europe/Paris:20231105T200000
DTSTAMP:20260423T122929
CREATED:20230117T142334Z
LAST-MODIFIED:20230117T142531Z
UID:4046-1698937200-1699214400@vins-chappuis.ch
SUMMARY:Wyschiff Solothurn
DESCRIPTION:
URL:https://vins-chappuis.ch/event/wyschiff-solothurn/
LOCATION:Wyschiff Solothurn\, Dreibeinskreuzstrasse 11\, Solothurn\, SO\, 4500\, Suisse
CATEGORIES:Foire
ORGANIZER;CN="Event Wyschiff":MAILTO:info@wyschiff.ch
END:VEVENT
BEGIN:VEVENT
DTSTART;TZID=Europe/Paris:20231024T133000
DTEND;TZID=Europe/Paris:20231029T213000
DTSTAMP:20260423T122929
CREATED:20230117T141211Z
LAST-MODIFIED:20230117T141337Z
UID:4043-1698154200-1698615000@vins-chappuis.ch
SUMMARY:Schaffhauser Herbstmesse
DESCRIPTION:
URL:https://vins-chappuis.ch/event/schaffhauser-herbstmesse-2/
LOCATION:Schaffhauser Herbstmesse\, Herrenacker 15\, Schaffhouse\, 8200\, Suisse
CATEGORIES:Foire
ORGANIZER;CN="Schaffhauser Herbstmesse":MAILTO:info@sh-herbstmesse.ch
END:VEVENT
BEGIN:VEVENT
DTSTART;TZID=Europe/Paris:20230428T090000
DTEND;TZID=Europe/Paris:20230507T180000
DTSTAMP:20260423T122929
CREATED:20230117T140803Z
LAST-MODIFIED:20230117T141411Z
UID:4040-1682672400-1683482400@vins-chappuis.ch
SUMMARY:BEA Bern
DESCRIPTION:
URL:https://vins-chappuis.ch/event/bea-bern-2/
LOCATION:BEA Berne\, Mingerstrasse 6\, Berne\, 3014\, Suisse
CATEGORIES:Foire
ORGANIZER;CN="BEA Bern":MAILTO:bea@bernexpo.ch
END:VEVENT
BEGIN:VEVENT
DTSTART;TZID=Europe/Paris:20230419T100000
DTEND;TZID=Europe/Paris:20230423T180000
DTSTAMP:20260423T122929
CREATED:20230117T140054Z
LAST-MODIFIED:20230117T141555Z
UID:4034-1681898400-1682272800@vins-chappuis.ch
SUMMARY:OFFA St-Gallen
DESCRIPTION:
URL:https://vins-chappuis.ch/event/offa-st-gallen-2/
LOCATION:OFFA St-Gallen\, Splugenstrasse 12\, Saint-Gall\, 9008\, Suisse
CATEGORIES:Foire
ORGANIZER;CN="OFFA St-Gallen":MAILTO:offa@olma-messen.ch
END:VEVENT
BEGIN:VEVENT
DTSTART;TZID=Europe/Paris:20230329T140000
DTEND;TZID=Europe/Paris:20230402T180000
DTSTAMP:20260423T122929
CREATED:20230117T120732Z
LAST-MODIFIED:20230117T123455Z
UID:4028-1680098400-1680458400@vins-chappuis.ch
SUMMARY:AMA Aarau
DESCRIPTION:
URL:https://vins-chappuis.ch/event/ama-aarau-2/
LOCATION:Reithalle KRV Aarau\, Schwimmbadstrasse 14\, Aarau\, AR\, 5000\, Suisse
CATEGORIES:Foire
ORGANIZER;CN="AMA":MAILTO:info@ama.ch
END:VEVENT
BEGIN:VEVENT
DTSTART;TZID=UTC:20230323T150000
DTEND;TZID=UTC:20230326T180000
DTSTAMP:20260423T122929
CREATED:20230117T114817Z
LAST-MODIFIED:20230117T114817Z
UID:4024-1679583600-1679853600@vins-chappuis.ch
SUMMARY:Wyschiff Basel
DESCRIPTION:
URL:https://vins-chappuis.ch/event/wyschiff-basel-2/
LOCATION:Wyschiff Basel\, Schifflände\, Basel\, 4051\, Suisse
CATEGORIES:Foire
ORGANIZER;CN="Event Wyschiff":MAILTO:info@wyschiff.ch
END:VEVENT
BEGIN:VEVENT
DTSTART;TZID=Europe/Paris:20230316T030000
DTEND;TZID=Europe/Paris:20230319T180000
DTSTAMP:20260423T122929
CREATED:20230117T114001Z
LAST-MODIFIED:20230117T114358Z
UID:4020-1678935600-1679248800@vins-chappuis.ch
SUMMARY:Wyschiff Luzern
DESCRIPTION:
URL:https://vins-chappuis.ch/event/wyschiff-luzern-2/
LOCATION:Wyschiff Luzern\, Europaplatz 1\, Lucerne\, 6005\, Suisse
CATEGORIES:Foire
ORGANIZER;CN="Event Wyschiff":MAILTO:info@wyschiff.ch
END:VEVENT
BEGIN:VEVENT
DTSTART;TZID=Europe/Paris:20230309T160000
DTEND;TZID=Europe/Paris:20230312T180000
DTSTAMP:20260423T122929
CREATED:20230117T095956Z
LAST-MODIFIED:20230117T100433Z
UID:4015-1678377600-1678644000@vins-chappuis.ch
SUMMARY:Schlaraffia Weinfelden
DESCRIPTION:
URL:https://vins-chappuis.ch/event/schlaraffia-weinfelden-2/
LOCATION:Thurgauerhof Weinfelden\, Thomas-Bornhauser-Strasse 10\, Weinfelden\, 8570\, Suisse
CATEGORIES:Foire
ORGANIZER;CN="Schlaraffia Messe AG":MAILTO:info@schlaraffia.ch
END:VEVENT
BEGIN:VEVENT
DTSTART;TZID=Europe/Paris:20230302T170000
DTEND;TZID=Europe/Paris:20230305T220000
DTSTAMP:20260423T122929
CREATED:20230117T093114Z
LAST-MODIFIED:20230117T094013Z
UID:4010-1677776400-1678053600@vins-chappuis.ch
SUMMARY:Vinorama Delémont
DESCRIPTION:
URL:https://vins-chappuis.ch/event/vinorama-delemont-2/
LOCATION:Vinorama Delémont\, Rue Emile-Boéchat 60\, Delémont\, JU\, 2800\, Suisse
CATEGORIES:Foire
ORGANIZER;CN="Vinorama Jacques-Andr%C3%A9 Roth":MAILTO:info@foire-jura.ch
END:VEVENT
BEGIN:VEVENT
DTSTART;TZID=Europe/Paris:20230216T150000
DTEND;TZID=Europe/Paris:20230217T200000
DTSTAMP:20260423T122929
CREATED:20230117T084932Z
LAST-MODIFIED:20230117T092149Z
UID:3992-1676559600-1676664000@vins-chappuis.ch
SUMMARY:Wyschiff Pfäffikon SZ
DESCRIPTION:
URL:https://vins-chappuis.ch/event/wyschiff-pfaffikon-seedamm-plaza/
LOCATION:Seedamm Plaza\, Seedammstrasse 3\, Pfäffikon\, 8808\, Suisse
CATEGORIES:Foire
ORGANIZER;CN="Event Wyschiff":MAILTO:info@wyschiff.ch
END:VEVENT
BEGIN:VEVENT
DTSTART;TZID=Europe/Paris:20230214T150000
DTEND;TZID=Europe/Paris:20230215T200000
DTSTAMP:20260423T122929
CREATED:20230117T091502Z
LAST-MODIFIED:20230117T092254Z
UID:3998-1676386800-1676491200@vins-chappuis.ch
SUMMARY:Wyschiff Zürich
DESCRIPTION:
URL:https://vins-chappuis.ch/event/wyschiff-zurich-metropol/
LOCATION:Metropol Zürich\, Fraumünsterstrasse 12\, Zürich\, ZH\, 8001\, Suisse
CATEGORIES:Foire
ORGANIZER;CN="Event Wyschiff":MAILTO:info@wyschiff.ch
END:VEVENT
BEGIN:VEVENT
DTSTART;VALUE=DATE:20221109
DTEND;VALUE=DATE:20221114
DTSTAMP:20260423T122929
CREATED:20220210T151113Z
LAST-MODIFIED:20221214T095310Z
UID:3155-1667952000-1668383999@vins-chappuis.ch
SUMMARY:Wintimäss Winterthur
DESCRIPTION:
URL:https://vins-chappuis.ch/event/wintimass-winterthur/
END:VEVENT
BEGIN:VEVENT
DTSTART;VALUE=DATE:20221026
DTEND;VALUE=DATE:20221031
DTSTAMP:20260423T122929
CREATED:20220210T150726Z
LAST-MODIFIED:20220210T150726Z
UID:3153-1666742400-1667174399@vins-chappuis.ch
SUMMARY:Schaffhauser Herbstmesse
DESCRIPTION:
URL:https://vins-chappuis.ch/event/schaffhauser-herbstmesse/
END:VEVENT
BEGIN:VEVENT
DTSTART;VALUE=DATE:20221022
DTEND;VALUE=DATE:20221031
DTSTAMP:20260423T122929
CREATED:20220210T150358Z
LAST-MODIFIED:20220210T150358Z
UID:3151-1666396800-1667174399@vins-chappuis.ch
SUMMARY:Zugermesse
DESCRIPTION:
URL:https://vins-chappuis.ch/event/zugermesse/
END:VEVENT
BEGIN:VEVENT
DTSTART;TZID=Europe/Zurich:20220618T000000
DTEND;TZID=Europe/Zurich:20220618T150000
DTSTAMP:20260423T122929
CREATED:20220210T135432Z
LAST-MODIFIED:20220211T091757Z
UID:3121-1655510400-1655564400@vins-chappuis.ch
SUMMARY:Chappuis Rivaz - menu & musique
DESCRIPTION:Cette année nous vous accueillons dans notre jardin avec vue magnifique sur le lac et\nles Alpes. Vous êtes bienvenus chez nous dans une ambiance conviviale avec un groupe\nd’amis musiciens qui nous jouera quelques chansons jazzy-frenchy issues de leur large\nrépertoire de qualité. Vous pourrez déguster un menu typique à trois plats\, le tout pour\nle prix de CHF 50.- par personne\, boissons et vins inclus.
URL:https://vins-chappuis.ch/event/chappuis-rivaz-menu-musique/
LOCATION:Chappuis Vins\, En Bons-Voisins 22\, Rivaz\, 1071\, Suisse
END:VEVENT
BEGIN:VEVENT
DTSTART;VALUE=DATE:20220429
DTEND;VALUE=DATE:20220510
DTSTAMP:20260423T122929
CREATED:20220210T150232Z
LAST-MODIFIED:20220210T150232Z
UID:3149-1651190400-1652140799@vins-chappuis.ch
SUMMARY:BEA Bern
DESCRIPTION:
URL:https://vins-chappuis.ch/event/bea-bern/
END:VEVENT
BEGIN:VEVENT
DTSTART;VALUE=DATE:20220420
DTEND;VALUE=DATE:20220425
DTSTAMP:20260423T122929
CREATED:20220210T150117Z
LAST-MODIFIED:20220210T150117Z
UID:3147-1650412800-1650844799@vins-chappuis.ch
SUMMARY:OFFA St-Gallen
DESCRIPTION:
URL:https://vins-chappuis.ch/event/offa-st-gallen/
END:VEVENT
BEGIN:VEVENT
DTSTART;VALUE=DATE:20220324
DTEND;VALUE=DATE:20220328
DTSTAMP:20260423T122929
CREATED:20220210T150015Z
LAST-MODIFIED:20220210T150015Z
UID:3145-1648080000-1648425599@vins-chappuis.ch
SUMMARY:Wyschiff Basel
DESCRIPTION:
URL:https://vins-chappuis.ch/event/wyschiff-basel/
END:VEVENT
END:VCALENDAR