BEGIN:VCALENDAR
VERSION:2.0
PRODID:-//Vins Chappuis - ECPv6.3.3.1//NONSGML v1.0//EN
CALSCALE:GREGORIAN
METHOD:PUBLISH
X-ORIGINAL-URL:https://vins-chappuis.ch/?lang=de
X-WR-CALDESC:Events for Vins Chappuis
REFRESH-INTERVAL;VALUE=DURATION:PT1H
X-Robots-Tag:noindex
X-PUBLISHED-TTL:PT1H
BEGIN:VTIMEZONE
TZID:Europe/Paris
BEGIN:DAYLIGHT
TZOFFSETFROM:+0100
TZOFFSETTO:+0200
TZNAME:CEST
DTSTART:20260329T010000
END:DAYLIGHT
BEGIN:STANDARD
TZOFFSETFROM:+0200
TZOFFSETTO:+0100
TZNAME:CET
DTSTART:20261025T010000
END:STANDARD
END:VTIMEZONE
BEGIN:VEVENT
DTSTART;VALUE=DATE:20260101
DTEND;VALUE=DATE:20270101
DTSTAMP:20260423T155812
CREATED:20260120T083618Z
LAST-MODIFIED:20260120T083618Z
UID:4817-1767225600-1798761599@vins-chappuis.ch
SUMMARY:Programm
DESCRIPTION:Chappuis_Alexandre-Programme 2026_ALL_BAT-2
URL:https://vins-chappuis.ch/event/programm/?lang=de
END:VEVENT
END:VCALENDAR