BEGIN:VCALENDAR
VERSION:2.0
PRODID:-//Vins Chappuis - ECPv6.3.3.1//NONSGML v1.0//EN
CALSCALE:GREGORIAN
METHOD:PUBLISH
X-WR-CALNAME:Vins Chappuis
X-ORIGINAL-URL:https://vins-chappuis.ch
X-WR-CALDESC:Events for Vins Chappuis
REFRESH-INTERVAL;VALUE=DURATION:PT1H
X-Robots-Tag:noindex
X-PUBLISHED-TTL:PT1H
BEGIN:VTIMEZONE
TZID:Europe/Paris
BEGIN:DAYLIGHT
TZOFFSETFROM:+0100
TZOFFSETTO:+0200
TZNAME:CEST
DTSTART:20260329T010000
END:DAYLIGHT
BEGIN:STANDARD
TZOFFSETFROM:+0200
TZOFFSETTO:+0100
TZNAME:CET
DTSTART:20261025T010000
END:STANDARD
END:VTIMEZONE
BEGIN:VEVENT
DTSTART;VALUE=DATE:20260410
DTEND;VALUE=DATE:20260412
DTSTAMP:20260423T141224
CREATED:20260116T153146Z
LAST-MODIFIED:20260116T153146Z
UID:4763-1775779200-1775951999@vins-chappuis.ch
SUMMARY:Helvetia Fribourg
DESCRIPTION:
URL:https://vins-chappuis.ch/event/helvetia-fribourg/
END:VEVENT
END:VCALENDAR