BEGIN:VCALENDAR
VERSION:2.0
PRODID:-//Vins Chappuis - ECPv6.3.3.1//NONSGML v1.0//EN
CALSCALE:GREGORIAN
METHOD:PUBLISH
X-ORIGINAL-URL:https://vins-chappuis.ch
X-WR-CALDESC:Events for Vins Chappuis
REFRESH-INTERVAL;VALUE=DURATION:PT1H
X-Robots-Tag:noindex
X-PUBLISHED-TTL:PT1H
BEGIN:VTIMEZONE
TZID:Europe/Paris
BEGIN:DAYLIGHT
TZOFFSETFROM:+0100
TZOFFSETTO:+0200
TZNAME:CEST
DTSTART:20260329T010000
END:DAYLIGHT
BEGIN:STANDARD
TZOFFSETFROM:+0200
TZOFFSETTO:+0100
TZNAME:CET
DTSTART:20261025T010000
END:STANDARD
END:VTIMEZONE
BEGIN:VEVENT
DTSTART;VALUE=DATE:20260312
DTEND;VALUE=DATE:20260316
DTSTAMP:20260423T155455
CREATED:20260116T144133Z
LAST-MODIFIED:20260116T144520Z
UID:4739-1773273600-1773619199@vins-chappuis.ch
SUMMARY:Vinorama Delémont
DESCRIPTION:Présentation de Vinorama \nÀ VINORAMA\, vous êtes envahis par une ambiance très conviviale. Vous faites des rencontres inoubliables entre amateurs et professionnels du vin ; vous dégustez des vins et des produits du terroir d’une qualité quasi parfaite et surtout vous ne sentez pas cette agressivité de vente\, car vous avez avant tout à faire à des professionnels du vin et des produits du terroir\, à des personnes respectueuses et aimant la terre et travaillant avant tout la qualité de leur produit. VINORAMA représente et représentera toujours cette image de qualité\, de respect et de convivialité. \nVous pourrez naturellement acheter sur place à l’emporter tous ces délicieux produits du terroir. \nUn petit creux : Chez Fafa et son équipe de la Crevasse à Champéry vous combleront votre appétit dans une ambiance conviviale avec des mets de qualités. \nLes organisateurs vous souhaitent un très beau salon et vous disent à bientôt. \nVinorama-jura \nDu jeudi au dimanche 15 Mars 2026\nJeudi 17h00 – 22h00 \n Vendredi 17h00 – 22h00 \nSamedi 17h00 – 22h00 \nDimanche 11h00 – 17h00 \nPrix de l’entrée\nAvec Carte invité : entrée libre
URL:https://vins-chappuis.ch/event/vinorama-delemont-5/
LOCATION:Vinorama Delémont\, Rue Emile-Boéchat 60\, Delémont\, JU\, 2800\, Suisse
ORGANIZER;CN="Vinorama Jacques-Andr%C3%A9 Roth":MAILTO:info@foire-jura.ch
END:VEVENT
END:VCALENDAR